BEGIN:VCALENDAR
VERSION:2.0
PRODID:-//Tukios.com/
BEGIN:VEVENT
UID:2f35cd52-2e3c-481a-8dbb-c19ef6253f01@www.pattonfuneralhome.com
DTSTAMP:20260423T230029Z
DTSTART:20260425T190000Z
DTEND:20260425T200000Z
SUMMARY:Funeral Service
DESCRIPTION:
URL:https://www.pattonfuneralhome.com/obituaries/patricia-pat-taylor
LOCATION: 9315 Happy Valley Rd  Cave City KY 42127
GEO:37.1187168;-85.9634628
END:VEVENT
END:VCALENDAR