BEGIN:VCALENDAR
VERSION:2.0
PRODID:-//Tukios.com/
BEGIN:VEVENT
UID:9c43abde-3f8e-41fc-b68c-0f9e5a7b46b6@www.pattonfuneralhome.com
DTSTAMP:20260423T225520Z
DTSTART:20260425T160000Z
DTEND:20260426T000000Z
SUMMARY:Visitation
DESCRIPTION:
URL:https://www.pattonfuneralhome.com/obituaries/patricia-pat-taylor
LOCATION: 9315 Happy Valley Rd  Cave City KY 42127
GEO:37.1187168;-85.9634628
END:VEVENT
END:VCALENDAR