BEGIN:VCALENDAR
VERSION:2.0
PRODID:-//Tukios.com/
BEGIN:VEVENT
UID:25d6708c-51e5-4e99-bfa5-96bf8c79b273@www.pattonfuneralhome.com
DTSTAMP:20260424T001553Z
DTSTART:20260425T183000Z
DTEND:20260425T193000Z
SUMMARY:Graveside Service
DESCRIPTION:
URL:https://www.pattonfuneralhome.com/obituaries/laura-rowe
LOCATION: 601 Old Dixie Hwy  Park City KY 42160
GEO:37.0923564;-86.0373443
END:VEVENT
END:VCALENDAR