BEGIN:VCALENDAR
VERSION:2.0
PRODID:-//Tukios.com/
BEGIN:VEVENT
UID:cf1442db-e66d-48d5-a273-273e83bfa861@www.pattonfuneralhome.com
DTSTAMP:20260424T002337Z
DTSTART:20260425T150000Z
DTEND:20260425T180000Z
SUMMARY:Visitation
DESCRIPTION:
URL:https://www.pattonfuneralhome.com/obituaries/laura-rowe
LOCATION: 23961 Louisville Rd  Park City KY 42160
GEO:37.0925936;-86.0510783
END:VEVENT
END:VCALENDAR